


BEGIN:VCALENDAR
VERSION:2.0
PRODID:-//FF Maria Anzbach - ECPv6.15.16//NONSGML v1.0//EN
CALSCALE:GREGORIAN
METHOD:PUBLISH
X-ORIGINAL-URL:https://feuerwehr-mariaanzbach.at
X-WR-CALDESC:Veranstaltungen für FF Maria Anzbach
REFRESH-INTERVAL;VALUE=DURATION:PT1H
X-Robots-Tag:noindex
X-PUBLISHED-TTL:PT1H
BEGIN:VTIMEZONE
TZID:Europe/Vienna
BEGIN:DAYLIGHT
TZOFFSETFROM:+0100
TZOFFSETTO:+0200
TZNAME:CEST
DTSTART:20250330T010000
END:DAYLIGHT
BEGIN:STANDARD
TZOFFSETFROM:+0200
TZOFFSETTO:+0100
TZNAME:CET
DTSTART:20251026T010000
END:STANDARD
BEGIN:DAYLIGHT
TZOFFSETFROM:+0100
TZOFFSETTO:+0200
TZNAME:CEST
DTSTART:20260329T010000
END:DAYLIGHT
BEGIN:STANDARD
TZOFFSETFROM:+0200
TZOFFSETTO:+0100
TZNAME:CET
DTSTART:20261025T010000
END:STANDARD
BEGIN:DAYLIGHT
TZOFFSETFROM:+0100
TZOFFSETTO:+0200
TZNAME:CEST
DTSTART:20270328T010000
END:DAYLIGHT
BEGIN:STANDARD
TZOFFSETFROM:+0200
TZOFFSETTO:+0100
TZNAME:CET
DTSTART:20271031T010000
END:STANDARD
END:VTIMEZONE
BEGIN:VEVENT
DTSTART;TZID=Europe/Vienna:20260426T070000
DTEND;TZID=Europe/Vienna:20260426T170000
DTSTAMP:20260420T074151
CREATED:20260402T120052Z
LAST-MODIFIED:20260402T120052Z
UID:9446-1777186800-1777222800@feuerwehr-mariaanzbach.at
SUMMARY:48. Wandertag
DESCRIPTION:Wir laden herzlich zum 48. Wandertag der FF Maria Anzbach ein! \nAm 27. April startet ab 7 Uhr die Wanderung um und durch Maria Anzbach – auf einer Strecke von ca. 9\,5 km bewirten wir euch gerne bei 2 Labstationen und am Ziel mit Surschnitzel\, Mehlspeisen und mehr! Start und Ziel ist wieder das Feuerwehrhaus Maria Anzbach. Dort wird es wieder eine Hüpfburg geben\, sowie die Möglichkeit unsere Ausrüstung und Fahrzeuge zu sehen und Feuerlöscher prüfen zu lassen (10 – 13h). \nWir freuen uns schon\, euch beim Wandertag begrüßen zu dürfen!
URL:https://feuerwehr-mariaanzbach.at/event/48-wandertag/
LOCATION:Feuerwehrhaus FF Maria-Anzbach\, Purkersdorferstraße 31\, Maria Anzbach\, 3034\, Österreich
ATTACH;FMTTYPE=image/png:https://feuerwehr-mariaanzbach.at/wp-content/uploads/2023/01/favicon_border_l-75.png
END:VEVENT
END:VCALENDAR